BEGIN:VCALENDAR
VERSION:2.0
PRODID:-//Squarespace Inc/Squarespace 6//v6//EN
BEGIN:VEVENT
UID:5930ed0715cf7d251c00d68e@squarespace.com
DTSTAMP:20170602T045235Z
DTSTART:20170722T020000Z
DTEND:20170722T050000Z
SUMMARY:Auckland Regional SPCEA Competition
GEO:-36.853232;174.767318
LOCATION:Sir Paul Reeves Building\, AUT City Campus\, 55 Wellesley Street E
 ast\, Auckland\, Auckland\, 1010\, New Zealand
END:VEVENT
END:VCALENDAR
