BEGIN:VCALENDAR
VERSION:2.0
PRODID:-//Squarespace Inc/Squarespace 6//v6//EN
BEGIN:VEVENT
UID:591671f186e6c00c058be961@squarespace.com
DTSTAMP:20180620T005644Z
DTSTART:20170721T050000Z
DTEND:20170721T050000Z
SUMMARY:Submissions for Virtual Region Close
END:VEVENT
END:VCALENDAR
