BEGIN:VCALENDAR
VERSION:2.0
PRODID:-//Squarespace Inc/Squarespace 6//v6//EN
BEGIN:VEVENT
UID:5934a12a1e5b6c8d459351c4@squarespace.com
DTSTAMP:20170711T011059Z
DTSTART:20170721T210000Z
DTEND:20170722T020000Z
SUMMARY:Wellington Regional SPCEA Competition
END:VEVENT
END:VCALENDAR
