BEGIN:VCALENDAR
VERSION:2.0
PRODID:-//Squarespace Inc/Squarespace 6//v6//EN
BEGIN:VEVENT
UID:592e0f1cbf629ae801766dec@squarespace.com
DTSTAMP:20170603T002325Z
DTSTART:20170722T220000Z
DTEND:20170723T000000Z
SUMMARY:Canterbury Regional SPCEA Competition 2017
END:VEVENT
END:VCALENDAR
