BEGIN:VCALENDAR
VERSION:2.0
PRODID:-//Squarespace Inc/Squarespace 6//v6//EN
BEGIN:VEVENT
UID:5916693f15cf7d45e95d0f10@squarespace.com
DTSTAMP:20170513T023652Z
DTSTART:20170930T040000Z
DTEND:20170930T040000Z
SUMMARY:Eureka! Video Awards Submissions Close
END:VEVENT
END:VCALENDAR
