BEGIN:VCALENDAR
VERSION:2.0
PRODID:-//Squarespace Inc/Squarespace 6//v6//EN
BEGIN:VEVENT
UID:5849d5296a49637ebba5da28@squarespace.com
DTSTAMP:20170901T005410Z
DTSTART:20170908T000000Z
DTEND:20170908T060000Z
SUMMARY:Sir Paul Callaghan EUREKA! Awards National Final - Open to the Publ
 ic
GEO:-41.302474;174.7754
LOCATION:Massey University\, 29 Wallace St\, Wellington\, Wellington\, 6021
 \, New Zealand
END:VEVENT
END:VCALENDAR
