BEGIN:VCALENDAR
VERSION:2.0
PRODID:-//Squarespace Inc/Squarespace 6//v6//EN
BEGIN:VEVENT
UID:58d0782c197aea92138105c1@squarespace.com
DTSTAMP:20170901T004423Z
DTSTART:20170907T063000Z
DTEND:20170907T090000Z
SUMMARY:Sponsors and Finalist’s Dinner – Invitation Only
END:VEVENT
END:VCALENDAR
