BEGIN:VCALENDAR
VERSION:2.0
PRODID:-//Squarespace Inc/Squarespace 6//v6//EN
BEGIN:VEVENT
UID:58d078df6a49638c26d6f230@squarespace.com
DTSTAMP:20170901T004551Z
DTSTART:20170908T070000Z
DTEND:20170908T090000Z
SUMMARY:The Sir Paul Callaghan EUREKA! Awards Dinner – Invitation Only
GEO:-41.306236;174.781029
LOCATION:Government House Wellington
END:VEVENT
END:VCALENDAR
