BEGIN:VCALENDAR
VERSION:2.0
PRODID:-//Squarespace Inc/Squarespace 6//v6//EN
BEGIN:VEVENT
UID:59a8ade58dd041e2a0a19f80@squarespace.com
DTSTAMP:20170901T004835Z
DTSTART:20170908T213000Z
DTEND:20170908T233000Z
SUMMARY:Post National Final Stakeholders Review – Open to Stakeholders
GEO:-41.284352;174.774386
LOCATION:James Cook Grand Chancellor Hotel
END:VEVENT
END:VCALENDAR
