BEGIN:VCALENDAR
VERSION:2.0
PRODID:-//Squarespace Inc/Squarespace 6//v6//EN
BEGIN:VEVENT
UID:5ae6878d0e2e72dfd91e785f@squarespace.com
DTSTAMP:20180504T023101Z
DTSTART:20180520T033000Z
DTEND:20180520T053000Z
SUMMARY:World Premiere: Dancing with Atoms - a documentary on the life of S
 ir Paul Callaghan
END:VEVENT
END:VCALENDAR
