BEGIN:VCALENDAR
VERSION:2.0
PRODID:-//Squarespace Inc/Squarespace 6//v6//EN
BEGIN:VEVENT
UID:5ad9289a70a6adad4b0e9f58@squarespace.com
DTSTAMP:20180618T013027Z
DTSTART:20180630T050000Z
DTEND:20180630T050000Z
SUMMARY:2018 Entries Close - Sir Paul Callaghan Eureka! Awards
END:VEVENT
END:VCALENDAR
