BEGIN:VCALENDAR
VERSION:2.0
PRODID:-//Squarespace Inc/Squarespace 6//v6//EN
BEGIN:VEVENT
UID:5b270a8ff950b7fedf2d2834@squarespace.com
DTSTAMP:20180705T095914Z
DTSTART:20180713T120000Z
DTEND:20180713T130000Z
SUMMARY:Canterbury Regional Competition - Sir Paul Callaghan Eureka! Awards
GEO:-43.53793;172.643468
LOCATION:ARA Institute of Canterbury
END:VEVENT
END:VCALENDAR
