BEGIN:VCALENDAR
VERSION:2.0
PRODID:-//Squarespace Inc/Squarespace 6//v6//EN
BEGIN:VEVENT
UID:5b270b538a922d271072cb97@squarespace.com
DTSTAMP:20180620T013227Z
DTSTART:20180720T050000Z
DTEND:20180720T060000Z
SUMMARY:Virtual Region Submissions Close - Sir Paul Callaghan Eureka! Award
 s
END:VEVENT
END:VCALENDAR
