BEGIN:VCALENDAR
VERSION:2.0
PRODID:-//Squarespace Inc/Squarespace 6//v6//EN
BEGIN:VEVENT
UID:5b270bfd352f53967a71ed3b@squarespace.com
DTSTAMP:20180628T000250Z
DTSTART:20180720T210000Z
DTEND:20180721T010000Z
SUMMARY:Auckland Regional Competition - Sir Paul Callaghan Eureka! Awards
GEO:-36.853219;174.767319
LOCATION:Auckland University of Technology
END:VEVENT
END:VCALENDAR
