BEGIN:VCALENDAR
VERSION:2.0
PRODID:-//Squarespace Inc/Squarespace 6//v6//EN
BEGIN:VEVENT
UID:5b2709bc70a6ad7fc924c884@squarespace.com
DTSTAMP:20180705T095937Z
DTSTART:20180720T210000Z
DTEND:20180721T000000Z
SUMMARY:Wellington Regional Competition - Sir Paul Callaghan Eureka! Awards
GEO:-41.28646;174.776236
LOCATION:Victoria University Wellington\, Wellington\, New Zealand
END:VEVENT
END:VCALENDAR
