BEGIN:VCALENDAR
VERSION:2.0
PRODID:-//Squarespace Inc/Squarespace 6//v6//EN
BEGIN:VEVENT
UID:5a613c9c4192024afb594993@squarespace.com
DTSTAMP:20180510T032147Z
DTSTART:20180930T040000Z
DTEND:20180930T040000Z
SUMMARY:2018 Submissions Close - Eureka! Video Awards
END:VEVENT
END:VCALENDAR
