BEGIN:VCALENDAR
VERSION:2.0
PRODID:-//Squarespace Inc/Squarespace 6//v6//EN
BEGIN:VEVENT
UID:5b738f8f4fa51ad313afc363@squarespace.com
DTSTAMP:20180831T215727Z
DTSTART:20180906T063000Z
DTEND:20180906T100000Z
SUMMARY:Sir Paul Callaghan Eureka! Awards Dinner - Invitation Only
GEO:-41.281939;174.774622
LOCATION:Wellington Club Building\, Level 4/88 The Terrace\, Wellington\, 6
 011
END:VEVENT
END:VCALENDAR
