BEGIN:VCALENDAR
VERSION:2.0
PRODID:-//Squarespace Inc/Squarespace 6//v6//EN
BEGIN:VEVENT
UID:5a613aee24a694dddaa3f819@squarespace.com
DTSTAMP:20190730T054622Z
DTSTART:20180906T000000Z
DTEND:20180906T060000Z
SUMMARY:Sir Paul Callaghan Eureka! Awards: 2018 National Final - Open to th
 e Public and Live on www.eureka.org.nz
GEO:-41.299719;174.776732
LOCATION:Massey University\, 21 Buckle Street\, Wellington\, Wellington\, 6
 021\, New Zealand
END:VEVENT
END:VCALENDAR
