BEGIN:VCALENDAR
VERSION:2.0
PRODID:-//Squarespace Inc/Squarespace 6//v6//EN
BEGIN:VEVENT
UID:5b73909d562fa736e30c4c33@squarespace.com
DTSTAMP:20180904T030025Z
DTSTART:20180906T210000Z
DTEND:20180907T020000Z
SUMMARY:The Sir Paul Callaghan Eureka! Young Science Leaders Forum - Invita
 tion only
GEO:-41.306236;174.781029
LOCATION:Government House\, Government House\, Newtown\, Wellington\, Welli
 ngton\, 6021\, New Zealand
END:VEVENT
END:VCALENDAR
