BEGIN:VCALENDAR
VERSION:2.0
PRODID:-//Squarespace Inc/Squarespace 6//v6//EN
BEGIN:VEVENT
UID:5d1c46760cf4c3000183b594@squarespace.com
DTSTAMP:20190705T015827Z
DTSTART:20190712T210000Z
DTEND:20190713T010000Z
SUMMARY:Wellington Regional Competition - 2019 Sir Paul Callaghan Eureka! A
 wards
GEO:-41.28646;174.776236
LOCATION:Victoria University\, Wellington\, New Zealand
END:VEVENT
END:VCALENDAR
