BEGIN:VCALENDAR
VERSION:2.0
PRODID:-//Squarespace Inc/Squarespace 6//v6//EN
BEGIN:VEVENT
UID:5d184fe1d8f0fd0001f9602d@squarespace.com
DTSTAMP:20190703T094202Z
DTSTART:20190705T204500Z
DTEND:20190706T020000Z
SUMMARY:Auckland Regional Competition - 2019 Sir Paul Callaghan Eureka! Awa
 rds
GEO:-36.853219;174.767319
LOCATION:Auckland University of Technology
END:VEVENT
END:VCALENDAR
