BEGIN:VCALENDAR
VERSION:2.0
PRODID:-//Squarespace Inc/Squarespace 6//v6//EN
BEGIN:VEVENT
UID:5d3fd9aebcb6920001937157@squarespace.com
DTSTAMP:20190909T213633Z
DTSTART:20190912T000000Z
DTEND:20190912T050000Z
SUMMARY:Sir Paul Callaghan Eureka! Awards: 2019 National Final - Open to th
 e Public and Live on www.eureka.org.nz
GEO:-41.304238;174.775002
LOCATION:Massey University:  Lecture Theater 4B06\, Wallace St\, Wellington
 \, Wellington\, New Zealand
END:VEVENT
END:VCALENDAR
