BEGIN:VCALENDAR
VERSION:2.0
PRODID:-//Squarespace Inc/Squarespace 6//v6//EN
BEGIN:VEVENT
UID:5d1eaffd0b6f4c000123463e@squarespace.com
DTSTAMP:20190909T214336Z
DTSTART:20190912T063000Z
DTEND:20190912T100000Z
SUMMARY:Sir Paul Callaghan Eureka! Awards Dinner - Parliament Buildings - I
 nvitation Only
GEO:-41.275153;174.77784
LOCATION:The Banquet Hall\, Parliament Buildings\, Molesworth Street\, Well
 ington\, Wellington\, 6011\, New Zealand
END:VEVENT
END:VCALENDAR
