BEGIN:VCALENDAR
VERSION:2.0
PRODID:-//Squarespace Inc/Squarespace 6//v6//EN
BEGIN:VEVENT
UID:5d1eb0a15e9d7a00011219e7@squarespace.com
DTSTAMP:20190909T222648Z
DTSTART:20190912T213000Z
DTEND:20190913T013000Z
SUMMARY:The Governor General's Eureka! Young Science Leaders Forum - Invita
 tion Only
GEO:-41.306236;174.781029
LOCATION:Government House\, New Zealand
END:VEVENT
END:VCALENDAR
